BEGIN:VCALENDAR
VERSION:2.0
PRODID:-//CGT 91 - ECPv4.6.20.1//NONSGML v1.0//EN
CALSCALE:GREGORIAN
METHOD:PUBLISH
X-WR-CALNAME:CGT 91
X-ORIGINAL-URL:http://www.cgt91.fr
X-WR-CALDESC:Events for CGT 91
BEGIN:VEVENT
DTSTART;VALUE=DATE:20181020
DTEND;VALUE=DATE:20181022
DTSTAMP:20260421T205518
CREATED:20181008T141106Z
LAST-MODIFIED:20181008T141106Z
UID:183-1539993600-1540166399@www.cgt91.fr
SUMMARY:77ème anniversaire des exécutions de Châteaubriant
DESCRIPTION: \nLe dimanche 21 octobre 2018 aura lieu le 77ème anniversaire en l’hommage aux Résistants au nombre de 48\, fusillés sous les balles des nazis le 22 octobre 1941. \nCes hommes choisis pour cible par les autorités françaises de Vichy parce qu’ils incarnaient la liberté et la paix face au régime hitlérien furent pour la plupart communistes et dirigeants d’organisations de la CGT. Parmi eux\, beaucoup avaient à peine une vingtaine d’années. \nAinsi\, ce sont 27 résistants qui tombent à Châteaubriant\, 5 au Mont Valérien et 16 à Nantes. \nFace à une situation internationale particulièrement inquiétante\, avec une montée des actes et des discours va-t’en-guerre\, nationalistes et xénophobes\, honorer la mémoire de nos camarades tombés sous les balles nazies sera aussi l’occasion de rappeler que leurs combats pour la liberté\, la paix\, la fraternité et le progrès social sont toujours d’une criante actualité. \n
URL:http://www.cgt91.fr/event/77eme-anniversaire-des-executions-de-chateaubriant/
END:VEVENT
END:VCALENDAR