BEGIN:VCALENDAR
VERSION:2.0
PRODID:-//CGT 91 - ECPv4.6.20.1//NONSGML v1.0//EN
CALSCALE:GREGORIAN
METHOD:PUBLISH
X-WR-CALNAME:CGT 91
X-ORIGINAL-URL:http://www.cgt91.fr
X-WR-CALDESC:Events for CGT 91
BEGIN:VEVENT
DTSTART;TZID=Europe/Paris:20190115T140000
DTEND;TZID=Europe/Paris:20190115T173000
DTSTAMP:20260422T035952
CREATED:20190108T152127Z
LAST-MODIFIED:20190108T152127Z
UID:522-1547560800-1547573400@www.cgt91.fr
SUMMARY:AG UD CGT 91
DESCRIPTION: \n
URL:http://www.cgt91.fr/event/ag-ud-cgt-91/
LOCATION:Place des terrasses de l'Agora\, Evry\, 91000\, France
END:VEVENT
END:VCALENDAR