BEGIN:VCALENDAR
VERSION:2.0
PRODID:-//CGT 91 - ECPv4.6.20.1//NONSGML v1.0//EN
CALSCALE:GREGORIAN
METHOD:PUBLISH
X-WR-CALNAME:CGT 91
X-ORIGINAL-URL:http://www.cgt91.fr
X-WR-CALDESC:Events for CGT 91
BEGIN:VEVENT
DTSTART;VALUE=DATE:20181122
DTEND;VALUE=DATE:20181123
DTSTAMP:20260421T205043
CREATED:20181112T150136Z
LAST-MODIFIED:20181112T150136Z
UID:327-1542844800-1542931199@www.cgt91.fr
SUMMARY:Congrès de l'USR 91
DESCRIPTION: \nLes retraités français font face en 2018 à la pus forte menace depuis le changement de 1981\, la retraite à 60 ans et la revalorisation des pensions. Le principe même de répartition\, déjà écorné par des réformes libérales successives\, est mis en cause par le gouvernement Macron. \n Depuis deux ans\, les retraités CGT de l’Essonne ont pris une nouvelle dimension dans les réunions et les manifestations syndicales\, spécifiques ou générales. \n Avec leur 10e congrès le 22 novembre 2018 à la maison des syndicats\, ils ouvrent une nouvelle page de leur histoire.  \n
URL:http://www.cgt91.fr/event/congres-de-lusr-91/
LOCATION:Place des terrasses de l'Agora\, Evry\, 91000\, France
END:VEVENT
END:VCALENDAR