BEGIN:VCALENDAR
VERSION:2.0
PRODID:-//CGT 91 - ECPv4.6.20.1//NONSGML v1.0//EN
CALSCALE:GREGORIAN
METHOD:PUBLISH
X-WR-CALNAME:CGT 91
X-ORIGINAL-URL:http://www.cgt91.fr
X-WR-CALDESC:Events for CGT 91
BEGIN:VEVENT
DTSTART;VALUE=DATE:20191205
DTEND;VALUE=DATE:20191206
DTSTAMP:20260421T072558
CREATED:20191125T151420Z
LAST-MODIFIED:20191202T162140Z
UID:1042-1575504000-1575590399@www.cgt91.fr
SUMMARY:Grève et manifestation( attention changement lieu départ)
DESCRIPTION:MANIF PARIS : attention changement Départ GARE de L’EST\n \n14 h Gare de l’Est vers NATION \nDÉPART EN CAR / pensez à réserver votre place ! \n1 CAR UL LES ULIS 13H puis CEA parking siège 13H15 puis EDF LAB 13H30 06 78 78 54 03 \n4 CARS UL EVRY / CORBEIL 12H parking Snecma 07 50 68 33 14 / 06 08 77 53 21 \n1 CAR CONSEIL DEPARTEMENTAL 11H cgt-cg91@cd-essonne.fr 01 60 91 94 58 \n1 CAR BARTHELEMY DURAND ETAMPES ulcgt.etampes@neuf.fr \n2 CARS RENAULT LARDY 12H30 1 allée Cornuel (bât. CE Renault) – 5€ cgt.lardy@renault.com 06 82 20 43 24 \n1 CAR UL ETAMPES 11H30 – puis UL BRETIGNY (parvis gare) 12H ulcgt.etampes@neuf.fr UL 01 78 83 68 43 \n1 CAR BRETIGNY (Pl. Frédérico Garcia Lorca) 12H30 cgt.lardy@renault.com 06 23 58 84 25 \n1 CAR MAIRIE MORSANG S/ORGE 12H15 06 30 94 33 25 \n1 CAR MAIRIE GRIGNY said.seddouki@sfr.fr \n2 CARS MAIRIE FLEURY MEROGIS 12H cgtfleurymerogis@gmail.com ou SMS 07 69 53 51 91 \n1 CAR UL MASSY 12H30 ulcgtmassy@wanadoo.fr \n1 CAR UL VIGNEUX (devant foyer A.Croizat) 12H 06 88 73 28 38 \n  \nA NOTER AG du lundi 9 décembre 18H \nRDV à la maison des syndicats à Evry\, afin de débattre des suites à donner au mouvement du 5 Décembre. \n
URL:http://www.cgt91.fr/event/greve-et-manifestation-attention-changement-rdv-gare-de-lest/
CATEGORIES:Manifestation
END:VEVENT
END:VCALENDAR