BEGIN:VCALENDAR
VERSION:2.0
PRODID:-//CGT 91 - ECPv4.6.20.1//NONSGML v1.0//EN
CALSCALE:GREGORIAN
METHOD:PUBLISH
X-WR-CALNAME:CGT 91
X-ORIGINAL-URL:http://www.cgt91.fr
X-WR-CALDESC:Events for CGT 91
BEGIN:VEVENT
DTSTART;VALUE=DATE:20190131
DTEND;VALUE=DATE:20190201
DTSTAMP:20260424T095711
CREATED:20190128T151855Z
LAST-MODIFIED:20190128T152204Z
UID:537-1548892800-1548979199@www.cgt91.fr
SUMMARY:Journée d'action des retraités
DESCRIPTION:Les retraité·e·s ont toutes les bonnes raisons de rejoindre les 9 organisations qui appellent à manifester\, dans toute la France.\n\n\nMANIFESTATION RÉGIONALE À PARIS\nJEUDI 31 janvier – 14 h 30   PLACE D’ITALIE – BERCY\n\nTéléchargez le tract ICI\n\n\n\nDéparts collectifs\n\nBrétigny : 13 h à la gare\nCorbeil : départ du car 13 h 15\, parking SNECMA (participation aux frais : 5 €)\nÉtampes : 12 h 45 à la gare (pour un départ à 13 h)\nMassy : gare RER 13 h 30 (en tête du train)\nSte Geneviève des Bois : 13 h 15 à la gare\n\n
URL:http://www.cgt91.fr/event/journee-daction-des-retraites/
LOCATION:place d'Italie\, paris\, 75013\, France
CATEGORIES:Manifestation
END:VEVENT
END:VCALENDAR