BEGIN:VCALENDAR
VERSION:2.0
PRODID:-//CGT 91 - ECPv4.6.20.1//NONSGML v1.0//EN
CALSCALE:GREGORIAN
METHOD:PUBLISH
X-WR-CALNAME:CGT 91
X-ORIGINAL-URL:http://www.cgt91.fr
X-WR-CALDESC:Events for CGT 91
BEGIN:VEVENT
DTSTART;TZID=Europe/Paris:20181009T140000
DTEND;TZID=Europe/Paris:20181009T180000
DTSTAMP:20260421T223516
CREATED:20181008T150805Z
LAST-MODIFIED:20181008T150839Z
UID:188-1539093600-1539108000@www.cgt91.fr
SUMMARY:manifestation 9 octobre
DESCRIPTION:MOBILISES POUR LE LIBRE ACCÈS A L’EDUCATION\, L’EMPLOI\, LES SALAIRES\, LES SERVICES PUBLICS\, LA RETRAITE PAR RÉPARTITION \nLa manifestation parisienne partira \n\nà 14 h 00 Montparnasse \npour se rendre Place d’Italie\nLire l’appel unitaire des URIF d’île de France \n
URL:http://www.cgt91.fr/event/manifestation/
LOCATION:boulevard du montparnasse\, paris\, 75014\, France
END:VEVENT
END:VCALENDAR