BEGIN:VCALENDAR
VERSION:2.0
PRODID:-//CGT 91 - ECPv4.6.20.1//NONSGML v1.0//EN
CALSCALE:GREGORIAN
METHOD:PUBLISH
X-WR-CALNAME:CGT 91
X-ORIGINAL-URL:http://www.cgt91.fr
X-WR-CALDESC:Events for CGT 91
BEGIN:VEVENT
DTSTART;TZID=Europe/Paris:20190509T140000
DTEND;TZID=Europe/Paris:20190509T180000
DTSTAMP:20260421T211751
CREATED:20190503T120032Z
LAST-MODIFIED:20190503T120032Z
UID:761-1557410400-1557424800@www.cgt91.fr
SUMMARY:Pour la Fonction publique\, NON au projet de loi
DESCRIPTION:Manifestation intersyndicale Fonction publique   \n14 h place Denfert Rochereau  (vers Invalides) \n téléchargez le communiqué unitaire des 9 organisations \n
URL:http://www.cgt91.fr/event/pour-la-fonction-publique-non-au-projet-de-loi/
LOCATION:place denfert rochereau\, Paris\, 75014\, France
CATEGORIES:Manifestation
END:VEVENT
END:VCALENDAR